BEGIN:VCALENDAR
VERSION:2.0
PRODID:-//Texans for Safe and Drug-Free Youth - ECPv6.15.17//NONSGML v1.0//EN
CALSCALE:GREGORIAN
METHOD:PUBLISH
X-ORIGINAL-URL:https://txsdy.org
X-WR-CALDESC:Events for Texans for Safe and Drug-Free Youth
REFRESH-INTERVAL;VALUE=DURATION:PT1H
X-Robots-Tag:noindex
X-PUBLISHED-TTL:PT1H
BEGIN:VTIMEZONE
TZID:America/Chicago
BEGIN:DAYLIGHT
TZOFFSETFROM:-0600
TZOFFSETTO:-0500
TZNAME:CDT
DTSTART:20250309T080000
END:DAYLIGHT
BEGIN:STANDARD
TZOFFSETFROM:-0500
TZOFFSETTO:-0600
TZNAME:CST
DTSTART:20251102T070000
END:STANDARD
BEGIN:DAYLIGHT
TZOFFSETFROM:-0600
TZOFFSETTO:-0500
TZNAME:CDT
DTSTART:20260308T080000
END:DAYLIGHT
BEGIN:STANDARD
TZOFFSETFROM:-0500
TZOFFSETTO:-0600
TZNAME:CST
DTSTART:20261101T070000
END:STANDARD
BEGIN:DAYLIGHT
TZOFFSETFROM:-0600
TZOFFSETTO:-0500
TZNAME:CDT
DTSTART:20270314T080000
END:DAYLIGHT
BEGIN:STANDARD
TZOFFSETFROM:-0500
TZOFFSETTO:-0600
TZNAME:CST
DTSTART:20271107T070000
END:STANDARD
END:VTIMEZONE
BEGIN:VEVENT
DTSTART;TZID=America/Chicago:20260211T113000
DTEND;TZID=America/Chicago:20260211T130000
DTSTAMP:20260424T104320
CREATED:20251209T020136Z
LAST-MODIFIED:20260121T181645Z
UID:2093-1770809400-1770814800@txsdy.org
SUMMARY:Austin Lunch & Learn with Chief Dye
DESCRIPTION:Save the date for Texans for Safe and Drug-Free Youth’s next Lunch & Learn session in Austin on Wednesday\, February 11\, 2026! \nSubscribe to our mailing list for updates. 
URL:https://txsdy.org/event/austin-lunch-learn-with-chief-dye/
LOCATION:TX
CATEGORIES:Lunch & Learn
ORGANIZER;CN="Texans for Safe and Drug-Free Youth":MAILTO:txsdy@txsdy.org
END:VEVENT
END:VCALENDAR