BEGIN:VCALENDAR
VERSION:2.0
PRODID:-//Texans for Safe and Drug-Free Youth - ECPv6.15.17//NONSGML v1.0//EN
CALSCALE:GREGORIAN
METHOD:PUBLISH
X-ORIGINAL-URL:https://txsdy.org
X-WR-CALDESC:Events for Texans for Safe and Drug-Free Youth
REFRESH-INTERVAL;VALUE=DURATION:PT1H
X-Robots-Tag:noindex
X-PUBLISHED-TTL:PT1H
BEGIN:VTIMEZONE
TZID:America/Chicago
BEGIN:DAYLIGHT
TZOFFSETFROM:-0600
TZOFFSETTO:-0500
TZNAME:CDT
DTSTART:20250309T080000
END:DAYLIGHT
BEGIN:STANDARD
TZOFFSETFROM:-0500
TZOFFSETTO:-0600
TZNAME:CST
DTSTART:20251102T070000
END:STANDARD
BEGIN:DAYLIGHT
TZOFFSETFROM:-0600
TZOFFSETTO:-0500
TZNAME:CDT
DTSTART:20260308T080000
END:DAYLIGHT
BEGIN:STANDARD
TZOFFSETFROM:-0500
TZOFFSETTO:-0600
TZNAME:CST
DTSTART:20261101T070000
END:STANDARD
BEGIN:DAYLIGHT
TZOFFSETFROM:-0600
TZOFFSETTO:-0500
TZNAME:CDT
DTSTART:20270314T080000
END:DAYLIGHT
BEGIN:STANDARD
TZOFFSETFROM:-0500
TZOFFSETTO:-0600
TZNAME:CST
DTSTART:20271107T070000
END:STANDARD
END:VTIMEZONE
BEGIN:VEVENT
DTSTART;TZID=America/Chicago:20260310T113000
DTEND;TZID=America/Chicago:20260310T130000
DTSTAMP:20260425T071557
CREATED:20260216T173054Z
LAST-MODIFIED:20260217T233344Z
UID:2247-1773142200-1773147600@txsdy.org
SUMMARY:Austin Drug-Free Youth Coalition: March Meeting
DESCRIPTION:Our monthly Austin Drug-Free Youth Coalition Meeting is Tuesday\, March 10th from 11:30am-1pm. This month’s meeting will be collaborative\, allowing for coalition members to take the reigns on the meeting direction. \nWe’ll recap CADCA\, review Membership & DFC grant requirements\, and continue to plan our coalition calendar. \nJoin our coalition mailing list to receive event updates. 
URL:https://txsdy.org/event/austin-drug-free-youth-coalition-march-meeting/
LOCATION:Pleasant Hill Branch\, Austin Public Library\, 211 E William Cannon Dr\, Austin\, TX\, 78745\, United States
CATEGORIES:Austin Drug-Free Youth Coalition Meetings
END:VEVENT
END:VCALENDAR