BEGIN:VCALENDAR
VERSION:2.0
PRODID:-//Texans for Safe and Drug-Free Youth - ECPv6.15.17//NONSGML v1.0//EN
CALSCALE:GREGORIAN
METHOD:PUBLISH
X-WR-CALNAME:Texans for Safe and Drug-Free Youth
X-ORIGINAL-URL:https://txsdy.org
X-WR-CALDESC:Events for Texans for Safe and Drug-Free Youth
REFRESH-INTERVAL;VALUE=DURATION:PT1H
X-Robots-Tag:noindex
X-PUBLISHED-TTL:PT1H
BEGIN:VTIMEZONE
TZID:America/Chicago
BEGIN:DAYLIGHT
TZOFFSETFROM:-0600
TZOFFSETTO:-0500
TZNAME:CDT
DTSTART:20250309T080000
END:DAYLIGHT
BEGIN:STANDARD
TZOFFSETFROM:-0500
TZOFFSETTO:-0600
TZNAME:CST
DTSTART:20251102T070000
END:STANDARD
BEGIN:DAYLIGHT
TZOFFSETFROM:-0600
TZOFFSETTO:-0500
TZNAME:CDT
DTSTART:20260308T080000
END:DAYLIGHT
BEGIN:STANDARD
TZOFFSETFROM:-0500
TZOFFSETTO:-0600
TZNAME:CST
DTSTART:20261101T070000
END:STANDARD
BEGIN:DAYLIGHT
TZOFFSETFROM:-0600
TZOFFSETTO:-0500
TZNAME:CDT
DTSTART:20270314T080000
END:DAYLIGHT
BEGIN:STANDARD
TZOFFSETFROM:-0500
TZOFFSETTO:-0600
TZNAME:CST
DTSTART:20271107T070000
END:STANDARD
END:VTIMEZONE
BEGIN:VEVENT
DTSTART;TZID=America/Chicago:20260414T113000
DTEND;TZID=America/Chicago:20260414T130000
DTSTAMP:20260423T074832
CREATED:20260410T160249Z
LAST-MODIFIED:20260410T160249Z
UID:2306-1776166200-1776171600@txsdy.org
SUMMARY:Austin Drug-Free Youth Coalition: April Meeting
DESCRIPTION:Our monthly Austin Drug-Free Youth Coalition Meeting is Tuesday\, April 14th from 11:30am-1pm. This month’s meeting will be collaborative\, allowing for coalition members to take the reigns on the meeting direction. \nWe’ll recap the latest Environmental Strategies Training and review upcoming events. \nRegister for this in-person meeting here: https://bit.ly/April-DFC \nJoin our coalition mailing list to receive event updates. 
URL:https://txsdy.org/event/austin-drug-free-youth-coalition-april-meeting/
LOCATION:Carver Branch Austin Public Library\, 1161 Angelina St\, Austin\, TX\, 78702
CATEGORIES:Austin Drug-Free Youth Coalition Meetings
END:VEVENT
END:VCALENDAR