BEGIN:VCALENDAR
VERSION:2.0
PRODID:-//Texans for Safe and Drug-Free Youth - ECPv6.15.17//NONSGML v1.0//EN
CALSCALE:GREGORIAN
METHOD:PUBLISH
X-WR-CALNAME:Texans for Safe and Drug-Free Youth
X-ORIGINAL-URL:https://txsdy.org
X-WR-CALDESC:Events for Texans for Safe and Drug-Free Youth
REFRESH-INTERVAL;VALUE=DURATION:PT1H
X-Robots-Tag:noindex
X-PUBLISHED-TTL:PT1H
BEGIN:VTIMEZONE
TZID:America/Chicago
BEGIN:DAYLIGHT
TZOFFSETFROM:-0600
TZOFFSETTO:-0500
TZNAME:CDT
DTSTART:20240310T080000
END:DAYLIGHT
BEGIN:STANDARD
TZOFFSETFROM:-0500
TZOFFSETTO:-0600
TZNAME:CST
DTSTART:20241103T070000
END:STANDARD
BEGIN:DAYLIGHT
TZOFFSETFROM:-0600
TZOFFSETTO:-0500
TZNAME:CDT
DTSTART:20250309T080000
END:DAYLIGHT
BEGIN:STANDARD
TZOFFSETFROM:-0500
TZOFFSETTO:-0600
TZNAME:CST
DTSTART:20251102T070000
END:STANDARD
BEGIN:DAYLIGHT
TZOFFSETFROM:-0600
TZOFFSETTO:-0500
TZNAME:CDT
DTSTART:20260308T080000
END:DAYLIGHT
BEGIN:STANDARD
TZOFFSETFROM:-0500
TZOFFSETTO:-0600
TZNAME:CST
DTSTART:20261101T070000
END:STANDARD
BEGIN:DAYLIGHT
TZOFFSETFROM:-0600
TZOFFSETTO:-0500
TZNAME:CDT
DTSTART:20270314T080000
END:DAYLIGHT
BEGIN:STANDARD
TZOFFSETFROM:-0500
TZOFFSETTO:-0600
TZNAME:CST
DTSTART:20271107T070000
END:STANDARD
END:VTIMEZONE
BEGIN:VEVENT
DTSTART;TZID=America/Chicago:20260310T113000
DTEND;TZID=America/Chicago:20260310T130000
DTSTAMP:20260424T134820
CREATED:20260216T173054Z
LAST-MODIFIED:20260217T233344Z
UID:2247-1773142200-1773147600@txsdy.org
SUMMARY:Austin Drug-Free Youth Coalition: March Meeting
DESCRIPTION:Our monthly Austin Drug-Free Youth Coalition Meeting is Tuesday\, March 10th from 11:30am-1pm. This month’s meeting will be collaborative\, allowing for coalition members to take the reigns on the meeting direction. \nWe’ll recap CADCA\, review Membership & DFC grant requirements\, and continue to plan our coalition calendar. \nJoin our coalition mailing list to receive event updates. 
URL:https://txsdy.org/event/austin-drug-free-youth-coalition-march-meeting/
LOCATION:Pleasant Hill Branch\, Austin Public Library\, 211 E William Cannon Dr\, Austin\, TX\, 78745\, United States
CATEGORIES:Austin Drug-Free Youth Coalition Meetings
END:VEVENT
BEGIN:VEVENT
DTSTART;TZID=America/Chicago:20260211T113000
DTEND;TZID=America/Chicago:20260211T130000
DTSTAMP:20260424T134820
CREATED:20251209T020136Z
LAST-MODIFIED:20260121T181645Z
UID:2093-1770809400-1770814800@txsdy.org
SUMMARY:Austin Lunch & Learn with Chief Dye
DESCRIPTION:Save the date for Texans for Safe and Drug-Free Youth’s next Lunch & Learn session in Austin on Wednesday\, February 11\, 2026! \nSubscribe to our mailing list for updates. 
URL:https://txsdy.org/event/austin-lunch-learn-with-chief-dye/
LOCATION:TX
CATEGORIES:Lunch & Learn
ORGANIZER;CN="Texans for Safe and Drug-Free Youth":MAILTO:txsdy@txsdy.org
END:VEVENT
BEGIN:VEVENT
DTSTART;TZID=America/Chicago:20260210T113000
DTEND;TZID=America/Chicago:20260210T130000
DTSTAMP:20260424T134820
CREATED:20260212T225802Z
LAST-MODIFIED:20260217T195615Z
UID:2244-1770723000-1770728400@txsdy.org
SUMMARY:Austin Drug-Free Youth Coalition: February  Meeting
DESCRIPTION:Our monthly Austin Drug-Free Youth Coalition Meeting is Tuesday\, February 10th from 11:30am-1pm. This month’s meeting will be a business meeting\, as well as virtual to accommodate the following day’s lunch & learn. \nWe’ll recap CADCA\, review Membership & DFC grant requirements\, and collaboratively plan our coalition calendar. \nJoin our coalition mailing list to receive event updates. 
URL:https://txsdy.org/event/austin-drug-free-youth-coalition-january-meeting-2/
LOCATION:TX
CATEGORIES:Austin Drug-Free Youth Coalition Meetings
END:VEVENT
BEGIN:VEVENT
DTSTART;TZID=America/Chicago:20260120T113000
DTEND;TZID=America/Chicago:20260120T130000
DTSTAMP:20260424T134820
CREATED:20251208T230020Z
LAST-MODIFIED:20260121T224111Z
UID:2087-1768908600-1768914000@txsdy.org
SUMMARY:Austin Drug-Free Youth Coalition: January Meeting
DESCRIPTION:Save the date for the coalition’s first meeting of the new year on Tuesday\, January 13\, 2026! \nJoin our coalition mailing list to receive event updates. 
URL:https://txsdy.org/event/austin-drug-free-youth-coalition-january-meeting/
LOCATION:TX
CATEGORIES:Austin Drug-Free Youth Coalition Meetings
END:VEVENT
BEGIN:VEVENT
DTSTART;TZID=America/Chicago:20251209T113000
DTEND;TZID=America/Chicago:20251209T130000
DTSTAMP:20260424T134820
CREATED:20251208T224743Z
LAST-MODIFIED:20251208T230617Z
UID:2079-1765279800-1765285200@txsdy.org
SUMMARY:Austin Drug-Free Youth Coalition: December Meeting
DESCRIPTION:Join us for our monthly Austin Drug-Free Youth Coalition Meeting on Tuesday\, December 9th\, from 11:30am-1pm. \nBring your lunch and join us as we learn and grow connections with fellow coalition members. This month’s meeting will feature guest speaker\, Alison Mohr Boleware\, a state policy expert. Check out Alison’s bio here. \nRegister to Attend
URL:https://txsdy.org/event/austin-drug-free-youth-december-coalition-meeting/
LOCATION:Carver Branch Austin Public Library\, 1161 Angelina St\, Austin\, TX\, 78702
CATEGORIES:Austin Drug-Free Youth Coalition Meetings
END:VEVENT
BEGIN:VEVENT
DTSTART;TZID=America/Chicago:20251113T130000
DTEND;TZID=America/Chicago:20251113T141500
DTSTAMP:20260424T134820
CREATED:20250616T150109Z
LAST-MODIFIED:20251030T060054Z
UID:1080-1763038800-1763043300@txsdy.org
SUMMARY:November Statewide Coalition Meeting
DESCRIPTION:  \nStatewide Coalition Meetings are great opportunities for us to network\, build prevention power\, and learn about different issues facing communities across the state. \n\n\n\n\n\n\nVirtual meetings take place every quarter. \n\n\n\n\n\n\n\n\n\n\n\n\n\n\n\n\n\n\nIf you haven’t already\, join the Statewide Coalition mailing list to stay up to date on future meetings and other Statewide Coalition activities. Click here to sign up.
URL:https://txsdy.org/event/november-statewide-coalition-meeting/
LOCATION:TX
ORGANIZER;CN="Texans for Safe and Drug-Free Youth":MAILTO:txsdy@txsdy.org
END:VEVENT
BEGIN:VEVENT
DTSTART;TZID=America/Chicago:20250814T130000
DTEND;TZID=America/Chicago:20250814T141500
DTSTAMP:20260424T134820
CREATED:20250616T150002Z
LAST-MODIFIED:20250616T150032Z
UID:1077-1755176400-1755180900@txsdy.org
SUMMARY:August Statewide Coalition Meeting
DESCRIPTION:  \n \n\n\n\n\n\n\nJoin our Statewide Coalition Meetings! \n\n\n\n\n\n\n\n\n\n\n\n\nStatewide Coalition Meetings are great opportunities for us to network\, build prevention power\, and learn about different issues facing communities across the state. \n\n\n\n\n\n\n\n\n\n\n\n\nVirtual meetings take place every quarter. \n\n\n\n\n\n\n\n\n\n\n\n\nRSVP to sign up for our 2025 meetings: \n\nThursday\, August 14\, 2025\, 1:00 – 2:15pm CT\nThursday\, November 13\, 2025\, 1:00 – 2:15pm CT\n\n\n\n\n\n\n\nAre you on the Statewide Coalition mailing list? \n\n\n\n\n\n\n\n\n\n\n\n\nIf you haven’t already\, join the Statewide Coalition mailing list to stay up to date on future meetings and other Statewide Coalition activities. Click here to sign up.
URL:https://txsdy.org/event/statewide-coalition-meetings/
LOCATION:TX
ORGANIZER;CN="Texans for Safe and Drug-Free Youth":MAILTO:txsdy@txsdy.org
END:VEVENT
BEGIN:VEVENT
DTSTART;VALUE=DATE:20250728
DTEND;VALUE=DATE:20250729
DTSTAMP:20260424T134820
CREATED:20250513T164429Z
LAST-MODIFIED:20250611T184359Z
UID:116-1753660800-1753747199@txsdy.org
SUMMARY:Institute on Youth Access & Impaired Driving
DESCRIPTION:Join us for our inaugural Institute — a unique opportunity to connect\, learn\, and lead change in your community. \nThis event will bring together stakeholders from across Texas to tackle youth substance use and impaired driving through collaboration\, education\, and action. \nMore information coming soon.
URL:https://txsdy.org/event/institute-on-youth-access-impaired-driving/
LOCATION:TX
ORGANIZER;CN="Texans for Safe and Drug-Free Youth":MAILTO:txsdy@txsdy.org
END:VEVENT
END:VCALENDAR