BEGIN:VCALENDAR
VERSION:2.0
PRODID:-//Texans for Safe and Drug-Free Youth - ECPv6.15.17//NONSGML v1.0//EN
CALSCALE:GREGORIAN
METHOD:PUBLISH
X-WR-CALNAME:Texans for Safe and Drug-Free Youth
X-ORIGINAL-URL:https://txsdy.org
X-WR-CALDESC:Events for Texans for Safe and Drug-Free Youth
REFRESH-INTERVAL;VALUE=DURATION:PT1H
X-Robots-Tag:noindex
X-PUBLISHED-TTL:PT1H
BEGIN:VTIMEZONE
TZID:America/Chicago
BEGIN:DAYLIGHT
TZOFFSETFROM:-0600
TZOFFSETTO:-0500
TZNAME:CDT
DTSTART:20250309T080000
END:DAYLIGHT
BEGIN:STANDARD
TZOFFSETFROM:-0500
TZOFFSETTO:-0600
TZNAME:CST
DTSTART:20251102T070000
END:STANDARD
BEGIN:DAYLIGHT
TZOFFSETFROM:-0600
TZOFFSETTO:-0500
TZNAME:CDT
DTSTART:20260308T080000
END:DAYLIGHT
BEGIN:STANDARD
TZOFFSETFROM:-0500
TZOFFSETTO:-0600
TZNAME:CST
DTSTART:20261101T070000
END:STANDARD
BEGIN:DAYLIGHT
TZOFFSETFROM:-0600
TZOFFSETTO:-0500
TZNAME:CDT
DTSTART:20270314T080000
END:DAYLIGHT
BEGIN:STANDARD
TZOFFSETFROM:-0500
TZOFFSETTO:-0600
TZNAME:CST
DTSTART:20271107T070000
END:STANDARD
END:VTIMEZONE
BEGIN:VEVENT
DTSTART;TZID=America/Chicago:20260512T113000
DTEND;TZID=America/Chicago:20260512T130000
DTSTAMP:20260424T102522
CREATED:20260421T211954Z
LAST-MODIFIED:20260421T211954Z
UID:2322-1778585400-1778590800@txsdy.org
SUMMARY:Austin Drug-Free Youth Coalition: May Meeting
DESCRIPTION:Our monthly Austin Drug-Free Youth Coalition Meeting is Tuesday\, May 12th from 11:30am-1pm. This month’s meeting will be collaborative\, allowing for coalition members to take the reigns on the meeting direction. \nRegister for this in-person meeting here: https://bit.ly/May-DFC \nJoin our coalition mailing list to receive event updates. 
URL:https://txsdy.org/event/austin-drug-free-youth-coalition-may-meeting-2/
LOCATION:Carver Branch Austin Public Library\, 1161 Angelina St\, Austin\, TX\, 78702
CATEGORIES:Austin Drug-Free Youth Coalition Meetings
END:VEVENT
END:VCALENDAR