BEGIN:VCALENDAR
VERSION:2.0
PRODID:-//Texans for Safe and Drug-Free Youth - ECPv6.15.17//NONSGML v1.0//EN
CALSCALE:GREGORIAN
METHOD:PUBLISH
X-ORIGINAL-URL:https://txsdy.org
X-WR-CALDESC:Events for Texans for Safe and Drug-Free Youth
REFRESH-INTERVAL;VALUE=DURATION:PT1H
X-Robots-Tag:noindex
X-PUBLISHED-TTL:PT1H
BEGIN:VTIMEZONE
TZID:America/Chicago
BEGIN:DAYLIGHT
TZOFFSETFROM:-0600
TZOFFSETTO:-0500
TZNAME:CDT
DTSTART:20250309T080000
END:DAYLIGHT
BEGIN:STANDARD
TZOFFSETFROM:-0500
TZOFFSETTO:-0600
TZNAME:CST
DTSTART:20251102T070000
END:STANDARD
BEGIN:DAYLIGHT
TZOFFSETFROM:-0600
TZOFFSETTO:-0500
TZNAME:CDT
DTSTART:20260308T080000
END:DAYLIGHT
BEGIN:STANDARD
TZOFFSETFROM:-0500
TZOFFSETTO:-0600
TZNAME:CST
DTSTART:20261101T070000
END:STANDARD
BEGIN:DAYLIGHT
TZOFFSETFROM:-0600
TZOFFSETTO:-0500
TZNAME:CDT
DTSTART:20270314T080000
END:DAYLIGHT
BEGIN:STANDARD
TZOFFSETFROM:-0500
TZOFFSETTO:-0600
TZNAME:CST
DTSTART:20271107T070000
END:STANDARD
END:VTIMEZONE
BEGIN:VEVENT
DTSTART;TZID=America/Chicago:20260120T113000
DTEND;TZID=America/Chicago:20260120T130000
DTSTAMP:20260424T104347
CREATED:20251208T230020Z
LAST-MODIFIED:20260121T224111Z
UID:2087-1768908600-1768914000@txsdy.org
SUMMARY:Austin Drug-Free Youth Coalition: January Meeting
DESCRIPTION:Save the date for the coalition’s first meeting of the new year on Tuesday\, January 13\, 2026! \nJoin our coalition mailing list to receive event updates. 
URL:https://txsdy.org/event/austin-drug-free-youth-coalition-january-meeting/
LOCATION:TX
CATEGORIES:Austin Drug-Free Youth Coalition Meetings
END:VEVENT
END:VCALENDAR